BEGIN:VCALENDAR
VERSION:2.0
PRODID:-//Allain Leprest MJC de Venelles - ECPv6.2.9//NONSGML v1.0//EN
CALSCALE:GREGORIAN
METHOD:PUBLISH
X-ORIGINAL-URL:https://www.mjc-venelles.org
X-WR-CALDESC:évènements pour Allain Leprest MJC de Venelles
REFRESH-INTERVAL;VALUE=DURATION:PT1H
X-Robots-Tag:noindex
X-PUBLISHED-TTL:PT1H
BEGIN:VTIMEZONE
TZID:Europe/Paris
BEGIN:DAYLIGHT
TZOFFSETFROM:+0100
TZOFFSETTO:+0200
TZNAME:CEST
DTSTART:20250330T010000
END:DAYLIGHT
BEGIN:STANDARD
TZOFFSETFROM:+0200
TZOFFSETTO:+0100
TZNAME:CET
DTSTART:20251026T010000
END:STANDARD
END:VTIMEZONE
BEGIN:VEVENT
DTSTART;TZID=Europe/Paris:20250709T153000
DTEND;TZID=Europe/Paris:20250709T200000
DTSTAMP:20260422T192145
CREATED:20250531T053530Z
LAST-MODIFIED:20251230T103147Z
UID:11766-1752075000-1752091200@www.mjc-venelles.org
SUMMARY:Conférences Niki de Saint Phalle
DESCRIPTION:Le bestiaire magique !\n\n\n\nL’Hôtel de Caumont-Centre d’art\, présente du 30 avril au 5 octobre 2025\, une exposition sur l’artiste franco-américaine\, Niki de Saint Phalle. \n\n\n\nLe mercredi 9 juillet\, en lien avec cette exposition\, Pétra Wauters propose aux enfants et aux adultes deux moments spécifiques permettant de découvrir « le bestiaire magique » de l’Artiste.    \n\n\n\nConférence pour enfants (à partir 6 ans) à 15h30 suivie d’un atelier dessin jusqu’à 17h00\n\n\n\n\n\nDe 15h30 à 16h00\, Pétra Wauters commencera son atelier pour les enfants avec une conférence dédiée.Elle mettra en lumière le monde imaginaire et féérique de Niki de Saint Phalle. \n\n\n\nPuis elle les guidera vers le dessin et les couleurs\, laissant place à leur créativité autour du thème « monstre ou sorcière ? »Feuilles\, crayons\, feutres ou pastels seront fournis aux artistes !La présence d’un adulte accompagnant est nécessaire durant ces temps culturels et artistiques.  \n\n\n\n\nJe réserve\n\n\n\n\nConférence tout public à partir de 18h30\n\n\n\nPétra Wauters avant ou après votre visite de l’exposition à L’Hôtel de Caumont vous invitera dans un voyage visuel et symbolique\, mêlant symboles\, mythes et récit autobiographique.L’univers puissant\, engagé\, vibrant d’énergie  et foisonnant de Niki de Saint Phalle ! \n\n\n\nEntre rêve\, jeu et révolte… entrez dans le monde ensorcelant de Niki de Saint Phalle ! \n\n\n\n\n\n\nJe réserve
URL:https://www.mjc-venelles.org/evenement/conferences-niki-de-saint-phalle/
CATEGORIES:Conférences
ATTACH;FMTTYPE=image/jpeg:https://www.mjc-venelles.org/wp-content/uploads/2025/06/1-bis_optimized-1.jpg
END:VEVENT
END:VCALENDAR